BEGIN:VCALENDAR
VERSION:2.0
PRODID:-//Parrocchia di Creola - ECPv6.15.15//NONSGML v1.0//EN
CALSCALE:GREGORIAN
METHOD:PUBLISH
X-WR-CALNAME:Parrocchia di Creola
X-ORIGINAL-URL:https://www.parrocchiacreola.it
X-WR-CALDESC:Eventi per Parrocchia di Creola
REFRESH-INTERVAL;VALUE=DURATION:PT1H
X-Robots-Tag:noindex
X-PUBLISHED-TTL:PT1H
BEGIN:VTIMEZONE
TZID:Europe/Rome
BEGIN:DAYLIGHT
TZOFFSETFROM:+0100
TZOFFSETTO:+0200
TZNAME:CEST
DTSTART:20210328T010000
END:DAYLIGHT
BEGIN:STANDARD
TZOFFSETFROM:+0200
TZOFFSETTO:+0100
TZNAME:CET
DTSTART:20211031T010000
END:STANDARD
BEGIN:DAYLIGHT
TZOFFSETFROM:+0100
TZOFFSETTO:+0200
TZNAME:CEST
DTSTART:20220327T010000
END:DAYLIGHT
BEGIN:STANDARD
TZOFFSETFROM:+0200
TZOFFSETTO:+0100
TZNAME:CET
DTSTART:20221030T010000
END:STANDARD
BEGIN:DAYLIGHT
TZOFFSETFROM:+0100
TZOFFSETTO:+0200
TZNAME:CEST
DTSTART:20230326T010000
END:DAYLIGHT
BEGIN:STANDARD
TZOFFSETFROM:+0200
TZOFFSETTO:+0100
TZNAME:CET
DTSTART:20231029T010000
END:STANDARD
BEGIN:DAYLIGHT
TZOFFSETFROM:+0100
TZOFFSETTO:+0200
TZNAME:CEST
DTSTART:20240331T010000
END:DAYLIGHT
BEGIN:STANDARD
TZOFFSETFROM:+0200
TZOFFSETTO:+0100
TZNAME:CET
DTSTART:20241027T010000
END:STANDARD
END:VTIMEZONE
BEGIN:VTIMEZONE
TZID:UTC
BEGIN:STANDARD
TZOFFSETFROM:+0000
TZOFFSETTO:+0000
TZNAME:UTC
DTSTART:20210101T000000
END:STANDARD
END:VTIMEZONE
BEGIN:VEVENT
DTSTART;TZID=Europe/Rome:20230207T163000
DTEND;TZID=Europe/Rome:20230207T210000
DTSTAMP:20260422T183308
CREATED:20230131T174631Z
LAST-MODIFIED:20230131T174738Z
UID:3828-1675787400-1675803600@www.parrocchiacreola.it
SUMMARY:Gruppo di preghiera del 07 febbraio 2023
DESCRIPTION:
URL:https://www.parrocchiacreola.it/in_evidenza/gruppo-di-preghiera-del-07-febbraio-2023/
LOCATION:Parrocchia San Pietro Apostolo\, Via Molini 47\, Saccolongo\, Italia
CATEGORIES:Padre Giorgio
END:VEVENT
BEGIN:VEVENT
DTSTART;TZID=UTC:20220405T160000
DTEND;TZID=UTC:20220405T213000
DTSTAMP:20260422T183308
CREATED:20220327T074127Z
LAST-MODIFIED:20220327T074127Z
UID:3560-1649174400-1649194200@www.parrocchiacreola.it
SUMMARY:Padre Giorgio da Pola 05-04-2022
DESCRIPTION:Incontro di preghiera con Padre Giorgio da Pola\, martedì 5 aprile 2022. \n\nDalle ore 16.00 per confessioni e ascolto.\nAlle 18.30 Santa Messa.\nAlle 19.45 Santo Rosario.\nAlle 20.30 Santa Messa\, Adorazione e preghiera di Intercessione e guarigione.
URL:https://www.parrocchiacreola.it/in_evidenza/padre-giorgio-da-pola-05-04-2022/
LOCATION:Parrocchia San Pietro Apostolo\, Via Molini 47\, Saccolongo\, Italia
CATEGORIES:Padre Giorgio
END:VEVENT
BEGIN:VEVENT
DTSTART;TZID=Europe/Rome:20220308T160000
DTEND;TZID=Europe/Rome:20220308T203000
DTSTAMP:20260422T183308
CREATED:20220213T180034Z
LAST-MODIFIED:20220327T073752Z
UID:3415-1646755200-1646771400@www.parrocchiacreola.it
SUMMARY:Padre Giorgio da Pola 8-03-2022
DESCRIPTION:Gli incontri di preghiera con Padre Giorgio da Pola\, riprenderanno il giorno 8 marzo 2022. \nDalle ore 16.00 per confessioni e ascolto. \nAlle 18.30 Santa Messa \nAlle 19.45 Santo Rosario \nAlle 20.30 Santa Messa\, Adorazione e preghiera di Intercessione e guarigione
URL:https://www.parrocchiacreola.it/in_evidenza/padre-giorgio-da-pola/
LOCATION:Parrocchia San Pietro Apostolo\, Via Molini 47\, Saccolongo\, Italia
CATEGORIES:Padre Giorgio
ATTACH;FMTTYPE=image/jpeg:https://www.parrocchiacreola.it/wp-content/uploads/2020/02/chiesa_2-1.jpg
END:VEVENT
END:VCALENDAR